BEGIN:VCALENDAR
VERSION:2.0
PRODID:-//Squarespace Inc/Squarespace 6//v6//EN
BEGIN:VEVENT
UID:587d4a7503596e8775c8f4ae@squarespace.com
DTSTAMP:20170116T224117Z
DTSTART:20180114T130000Z
DTEND:20180115T230000Z
SUMMARY:Event Site Pack In
END:VEVENT
END:VCALENDAR
